BEGIN:VCALENDAR
VERSION:2.0
PRODID:-//Infinity Ladies Tour - ECPv6.15.20//NONSGML v1.0//EN
CALSCALE:GREGORIAN
METHOD:PUBLISH
X-WR-CALNAME:Infinity Ladies Tour
X-ORIGINAL-URL:https://infinityladiestour.com
X-WR-CALDESC:Events for Infinity Ladies Tour
REFRESH-INTERVAL;VALUE=DURATION:PT1H
X-Robots-Tag:noindex
X-PUBLISHED-TTL:PT1H
BEGIN:VTIMEZONE
TZID:America/Chicago
BEGIN:DAYLIGHT
TZOFFSETFROM:-0600
TZOFFSETTO:-0500
TZNAME:CDT
DTSTART:20220313T080000
END:DAYLIGHT
BEGIN:STANDARD
TZOFFSETFROM:-0500
TZOFFSETTO:-0600
TZNAME:CST
DTSTART:20221106T070000
END:STANDARD
BEGIN:DAYLIGHT
TZOFFSETFROM:-0600
TZOFFSETTO:-0500
TZNAME:CDT
DTSTART:20230312T080000
END:DAYLIGHT
BEGIN:STANDARD
TZOFFSETFROM:-0500
TZOFFSETTO:-0600
TZNAME:CST
DTSTART:20231105T070000
END:STANDARD
BEGIN:DAYLIGHT
TZOFFSETFROM:-0600
TZOFFSETTO:-0500
TZNAME:CDT
DTSTART:20240310T080000
END:DAYLIGHT
BEGIN:STANDARD
TZOFFSETFROM:-0500
TZOFFSETTO:-0600
TZNAME:CST
DTSTART:20241103T070000
END:STANDARD
END:VTIMEZONE
BEGIN:VEVENT
DTSTART;TZID=America/Chicago:20231104T000000
DTEND;TZID=America/Chicago:20231105T235959
DTSTAMP:20260423T111329
CREATED:20230511T165929Z
LAST-MODIFIED:20230511T165932Z
UID:76-1699056000-1699228799@infinityladiestour.com
SUMMARY:ILT Stop #6
DESCRIPTION:
URL:https://infinityladiestour.com/calendar/ilt-stop-6/
LOCATION:Skinny Bob’s Billiards\, 300 Hester's Crossing Ste A1\, Round Rock\, Texas\, 78681\, United States
END:VEVENT
BEGIN:VEVENT
DTSTART;TZID=America/Chicago:20230923T000000
DTEND;TZID=America/Chicago:20230924T235959
DTSTAMP:20260423T111329
CREATED:20230511T165616Z
LAST-MODIFIED:20230511T165814Z
UID:68-1695427200-1695599999@infinityladiestour.com
SUMMARY:ILT Stop #5
DESCRIPTION:
URL:https://infinityladiestour.com/calendar/ilt-stop-5/
LOCATION:Big Tyme Billiards\, 100 Cypresswood Dr Ste G\, Spring\, Texas\, 77388\, United States
END:VEVENT
BEGIN:VEVENT
DTSTART;TZID=America/Chicago:20230722T000000
DTEND;TZID=America/Chicago:20230723T235959
DTSTAMP:20260423T111329
CREATED:20230511T165254Z
LAST-MODIFIED:20230511T165257Z
UID:64-1689984000-1690156799@infinityladiestour.com
SUMMARY:ILT Stop #4
DESCRIPTION:
URL:https://infinityladiestour.com/calendar/ilt-stop-4/
LOCATION:Betsy’s Billiards\, 1901 W William Cannon Dr #147\, Austin\, Texas\, 78745\, United States
END:VEVENT
BEGIN:VEVENT
DTSTART;TZID=America/Chicago:20230520T000000
DTEND;TZID=America/Chicago:20230521T235959
DTSTAMP:20260423T111329
CREATED:20230511T164917Z
LAST-MODIFIED:20230511T164922Z
UID:60-1684540800-1684713599@infinityladiestour.com
SUMMARY:ILT Stop #3
DESCRIPTION:
URL:https://infinityladiestour.com/calendar/ilt-stop-3/
LOCATION:Skinny Bob’s Billiards\, 300 Hester's Crossing Ste A1\, Round Rock\, Texas\, 78681\, United States
END:VEVENT
END:VCALENDAR